BEGIN:VCALENDAR
VERSION:2.0
PRODID:SchoolNow
CALSCALE:GREGORIAN
BEGIN:VEVENT
UID:e609cc3a-3a9f-11f1-90ec-02078ce7e971
DTSTAMP:20260425T173009Z
SUMMARY:Music in our school concert
URL;VALUE=URI:https://www.centrallinn.k12.or.us/high-school/calendar/900160
 5/music-in-our-school-concert
DTSTART:20260318T020000Z
DTEND:20260318T030000Z
END:VEVENT
END:VCALENDAR
