BEGIN:VCALENDAR
VERSION:2.0
PRODID:SchoolNow
CALSCALE:GREGORIAN
BEGIN:VEVENT
UID:e609cd16-3a9f-11f1-9c28-02078ce7e971
DTSTAMP:20260420T094509Z
SUMMARY:JH Baseball @ Mohawk HS
LOCATION:Mohawk High School\, 38300 Wendling Rd\, Marcola\, OR 97454\, USA
URL;VALUE=URI:https://www.centrallinn.k12.or.us/high-school/calendar/900160
 6/jh-baseball-mohawk-hs
DTSTART:20260409T230000Z
DTEND:20260410T010000Z
END:VEVENT
END:VCALENDAR
