BEGIN:VCALENDAR
VERSION:2.0
PRODID:SchoolNow
CALSCALE:GREGORIAN
BEGIN:VEVENT
UID:e609cdfc-3a9f-11f1-bf5c-02078ce7e971
DTSTAMP:20260425T173009Z
SUMMARY:HS Track @ Stayton HS
LOCATION:Stayton High School\, 757 W Locust St\, Stayton\, OR 97383\, USA
URL;VALUE=URI:https://www.centrallinn.k12.or.us/high-school/calendar/900160
 7/hs-track-stayton-hs
DTSTART:20260509T170000Z
DTEND:20260509T210000Z
END:VEVENT
END:VCALENDAR
