BEGIN:VCALENDAR
VERSION:2.0
PRODID:SchoolNow
CALSCALE:GREGORIAN
BEGIN:VEVENT
UID:e609ced8-3a9f-11f1-9961-02078ce7e971
DTSTAMP:20260420T094509Z
SUMMARY:HS Softball (DH) @ CLHS
URL;VALUE=URI:https://www.centrallinn.k12.or.us/high-school/calendar/900160
 8/hs-softball-dh-clhs
DTSTART:20260424T210000Z
DTEND:20260425T013000Z
END:VEVENT
END:VCALENDAR
