BEGIN:VCALENDAR
VERSION:2.0
PRODID:SchoolNow
CALSCALE:GREGORIAN
BEGIN:VEVENT
UID:e609d0cc-3a9f-11f1-b7db-02078ce7e971
DTSTAMP:20260420T094508Z
SUMMARY:HS Track @ Marshfield HS
LOCATION:Marshfield High School\, 972 Ingersoll Ave\, Coos Bay\, OR 97420\,
  USA
URL;VALUE=URI:https://www.centrallinn.k12.or.us/high-school/calendar/900161
 0/hs-track-marshfield-hs
DTSTART:20260411T170000Z
DTEND:20260411T210000Z
END:VEVENT
END:VCALENDAR
