BEGIN:VCALENDAR
VERSION:2.0
PRODID:SchoolNow
CALSCALE:GREGORIAN
BEGIN:VEVENT
UID:e609d36a-3a9f-11f1-943e-02078ce7e971
DTSTAMP:20260420T094509Z
SUMMARY:HS Softball @ Regis HS
LOCATION:Regis High School\, 550 W Regis St\, Stayton\, OR 97383\, USA
URL;VALUE=URI:https://www.centrallinn.k12.or.us/high-school/calendar/900161
 3/hs-softball-regis-hs
DTSTART:20260407T233000Z
DTEND:20260408T013000Z
END:VEVENT
END:VCALENDAR
