BEGIN:VCALENDAR
VERSION:2.0
PRODID:SchoolNow
CALSCALE:GREGORIAN
BEGIN:VEVENT
UID:e609d450-3a9f-11f1-ae75-02078ce7e971
DTSTAMP:20260420T094509Z
SUMMARY:HS Baseball (DH) @ Culver HS
LOCATION:Culver High School\, 710 5th Ave\, Culver\, OR 97734\, USA
URL;VALUE=URI:https://www.centrallinn.k12.or.us/high-school/calendar/900161
 4/hs-baseball-dh-culver-hs
DTSTART:20260403T210000Z
DTEND:20260404T013000Z
END:VEVENT
END:VCALENDAR
