BEGIN:VCALENDAR
VERSION:2.0
PRODID:SchoolNow
CALSCALE:GREGORIAN
BEGIN:VEVENT
UID:e609d52c-3a9f-11f1-9124-02078ce7e971
DTSTAMP:20260420T094509Z
SUMMARY:JH Track @ CLHS
URL;VALUE=URI:https://www.centrallinn.k12.or.us/high-school/calendar/900161
 5/jh-track-clhs
DTSTART:20260429T231500Z
DTEND:20260430T011500Z
END:VEVENT
END:VCALENDAR
