BEGIN:VCALENDAR
VERSION:2.0
PRODID:SchoolNow
CALSCALE:GREGORIAN
BEGIN:VEVENT
UID:e609d608-3a9f-11f1-9125-02078ce7e971
DTSTAMP:20260425T173009Z
SUMMARY:HS Softball @ Salem Academy
LOCATION:Salem Academy High School\, 942 Lancaster Dr NE\, Salem\, OR 97301
 \, USA
URL;VALUE=URI:https://www.centrallinn.k12.or.us/high-school/calendar/900161
 6/hs-softball-salem-academy
DTSTART:20260316T233000Z
DTEND:20260317T013000Z
END:VEVENT
END:VCALENDAR
