BEGIN:VCALENDAR
VERSION:2.0
PRODID:SchoolNow
CALSCALE:GREGORIAN
BEGIN:VEVENT
UID:e609d7b6-3a9f-11f1-ae06-02078ce7e971
DTSTAMP:20260425T112509Z
SUMMARY:JH Boys Basketball vs Lowell
URL;VALUE=URI:https://www.centrallinn.k12.or.us/high-school/calendar/900161
 8/jh-boys-basketball-vs-lowell
DTSTART:20260129T003000Z
DTEND:20260129T033000Z
END:VEVENT
END:VCALENDAR
