BEGIN:VCALENDAR
VERSION:2.0
PRODID:SchoolNow
CALSCALE:GREGORIAN
BEGIN:VEVENT
UID:e609d8a6-3a9f-11f1-a337-02078ce7e971
DTSTAMP:20260425T173009Z
SUMMARY:HS Track Intersquad Meet
URL;VALUE=URI:https://www.centrallinn.k12.or.us/high-school/calendar/900161
 9/hs-track-intersquad-meet
DTSTART:20260318T230000Z
DTEND:20260319T010000Z
END:VEVENT
END:VCALENDAR
