BEGIN:VCALENDAR
VERSION:2.0
PRODID:SchoolNow
CALSCALE:GREGORIAN
BEGIN:VEVENT
UID:e609d982-3a9f-11f1-98d1-02078ce7e971
DTSTAMP:20260420T094508Z
SUMMARY:JH Boys Basketball @ Lowell
URL;VALUE=URI:https://www.centrallinn.k12.or.us/high-school/calendar/900162
 0/jh-boys-basketball-lowell
DTSTART:20260212T003000Z
DTEND:20260212T033000Z
END:VEVENT
END:VCALENDAR
