BEGIN:VCALENDAR
VERSION:2.0
PRODID:SchoolNow
CALSCALE:GREGORIAN
BEGIN:VEVENT
UID:e609dc3e-3a9f-11f1-9672-02078ce7e971
DTSTAMP:20260425T173009Z
SUMMARY:CANCELLED-HS Baseball @ CLHS
URL;VALUE=URI:https://www.centrallinn.k12.or.us/high-school/calendar/900162
 3/cancelled-hs-baseball-clhs
DTSTART:20260319T233000Z
DTEND:20260320T013000Z
END:VEVENT
END:VCALENDAR
