BEGIN:VCALENDAR
VERSION:2.0
PRODID:SchoolNow
CALSCALE:GREGORIAN
BEGIN:VEVENT
UID:e609dd88-3a9f-11f1-b447-02078ce7e971
DTSTAMP:20260420T094509Z
SUMMARY:JH Baseball @ CLHS
URL;VALUE=URI:https://www.centrallinn.k12.or.us/high-school/calendar/900162
 4/jh-baseball-clhs
DTSTART:20260429T230000Z
DTEND:20260430T010000Z
END:VEVENT
END:VCALENDAR
