BEGIN:VCALENDAR
VERSION:2.0
PRODID:SchoolNow
CALSCALE:GREGORIAN
BEGIN:VEVENT
UID:e609df5e-3a9f-11f1-8f8a-02078ce7e971
DTSTAMP:20260420T094508Z
SUMMARY:JH Baseball @ Crow
LOCATION:Crow Middle/High School\, 25863 Crow Rd\, Eugene\, OR 97402\, USA
URL;VALUE=URI:https://www.centrallinn.k12.or.us/high-school/calendar/900162
 6/jh-baseball-crow
DTSTART:20260401T230000Z
DTEND:20260402T010000Z
END:VEVENT
END:VCALENDAR
