BEGIN:VCALENDAR
VERSION:2.0
PRODID:SchoolNow
CALSCALE:GREGORIAN
BEGIN:VEVENT
UID:e609e03a-3a9f-11f1-861e-02078ce7e971
DTSTAMP:20260425T112508Z
SUMMARY:JH Boys Basketball vs Fern Ridge
URL;VALUE=URI:https://www.centrallinn.k12.or.us/high-school/calendar/900162
 7/jh-boys-basketball-vs-fern-ridge
DTSTART:20260121T003000Z
DTEND:20260121T033000Z
END:VEVENT
END:VCALENDAR
