BEGIN:VCALENDAR
VERSION:2.0
PRODID:SchoolNow
CALSCALE:GREGORIAN
BEGIN:VEVENT
UID:e609e10c-3a9f-11f1-9a6e-02078ce7e971
DTSTAMP:20260420T094508Z
SUMMARY:HS Track @ Sweet Home HS
LOCATION:Sweet Home High School\, 1641 Long St\, Sweet Home\, OR 97386\, US
 A
URL;VALUE=URI:https://www.centrallinn.k12.or.us/high-school/calendar/900162
 8/hs-track-sweet-home-hs
DTSTART:20260425T170000Z
DTEND:20260425T210000Z
END:VEVENT
END:VCALENDAR
