BEGIN:VCALENDAR
VERSION:2.0
PRODID:SchoolNow
CALSCALE:GREGORIAN
BEGIN:VEVENT
UID:e609e1fc-3a9f-11f1-ad8f-02078ce7e971
DTSTAMP:20260425T173009Z
SUMMARY:HS Softball @ Gervais HS
LOCATION:Gervais High School\, 300 Douglas Ave NE\, Gervais\, OR 97026\, US
 A
URL;VALUE=URI:https://www.centrallinn.k12.or.us/high-school/calendar/900162
 9/hs-softball-gervais-hs
DTSTART:20260505T233000Z
DTEND:20260506T013000Z
END:VEVENT
END:VCALENDAR
