BEGIN:VCALENDAR
VERSION:2.0
PRODID:SchoolNow
CALSCALE:GREGORIAN
BEGIN:VEVENT
UID:e609e2ce-3a9f-11f1-b6d4-02078ce7e971
DTSTAMP:20260420T094509Z
SUMMARY:HS Softball @ CLHS
URL;VALUE=URI:https://www.centrallinn.k12.or.us/high-school/calendar/900163
 0/hs-softball-clhs
DTSTART:20260430T233000Z
DTEND:20260501T013000Z
END:VEVENT
END:VCALENDAR
