BEGIN:VCALENDAR
VERSION:2.0
PRODID:SchoolNow
CALSCALE:GREGORIAN
BEGIN:VEVENT
UID:e609e3aa-3a9f-11f1-9dd1-02078ce7e971
DTSTAMP:20260422T042008Z
SUMMARY:JH Boys Basketball vs Oakridge
URL;VALUE=URI:https://www.centrallinn.k12.or.us/high-school/calendar/900163
 1/jh-boys-basketball-vs-oakridge
DTSTART:20260224T003000Z
DTEND:20260224T033000Z
END:VEVENT
END:VCALENDAR
