BEGIN:VCALENDAR
VERSION:2.0
PRODID:SchoolNow
CALSCALE:GREGORIAN
BEGIN:VEVENT
UID:e609e486-3a9f-11f1-9e68-02078ce7e971
DTSTAMP:20260420T094508Z
SUMMARY:HS Track @ Corban University
LOCATION:Corban University\, 5000 Deer Park Dr SE\, Salem\, OR 97317\, USA
URL;VALUE=URI:https://www.centrallinn.k12.or.us/high-school/calendar/900163
 2/hs-track-corban-university
DTSTART:20260430T230000Z
DTEND:20260501T010000Z
END:VEVENT
END:VCALENDAR
