BEGIN:VCALENDAR
VERSION:2.0
PRODID:SchoolNow
CALSCALE:GREGORIAN
BEGIN:VEVENT
UID:e609e558-3a9f-11f1-9a61-02078ce7e971
DTSTAMP:20260425T173009Z
SUMMARY:HS Softball @ Hillsboro Stadium
LOCATION:Hillsboro Stadium\, 4450 NE Century Blvd\, Hillsboro\, OR 97124\, 
 USA
URL;VALUE=URI:https://www.centrallinn.k12.or.us/high-school/calendar/900163
 3/hs-softball-hillsboro-stadium
DTSTART:20260321T000000Z
DTEND:20260321T020000Z
END:VEVENT
END:VCALENDAR
