BEGIN:VCALENDAR
VERSION:2.0
PRODID:SchoolNow
CALSCALE:GREGORIAN
BEGIN:VEVENT
UID:e609e710-3a9f-11f1-999f-02078ce7e971
DTSTAMP:20260420T094508Z
SUMMARY:JH Baseball @ St. Marys Catholic school
LOCATION:St. Mary Catholic School\, 1066 N 6th Ave\, Stayton\, OR 97383\, U
 SA
URL;VALUE=URI:https://www.centrallinn.k12.or.us/high-school/calendar/900163
 5/jh-baseball-st-marys-catholic-school
DTSTART:20260408T230000Z
DTEND:20260409T010000Z
END:VEVENT
END:VCALENDAR
