BEGIN:VCALENDAR
VERSION:2.0
PRODID:SchoolNow
CALSCALE:GREGORIAN
BEGIN:VEVENT
UID:e640e97c-3a9f-11f1-9879-02078ce7e971
DTSTAMP:20260425T173009Z
SUMMARY:Cobra Booster Club Auction
URL;VALUE=URI:https://www.centrallinn.k12.or.us/high-school/calendar/900163
 6/cobra-booster-club-auction
DTSTART:20260314T233000Z
DTEND:20260315T050000Z
END:VEVENT
END:VCALENDAR
