BEGIN:VCALENDAR
VERSION:2.0
PRODID:SchoolNow
CALSCALE:GREGORIAN
BEGIN:VEVENT
UID:e640f106-3a9f-11f1-864b-02078ce7e971
DTSTAMP:20260425T173009Z
SUMMARY:HS Baseball @ CLHS
URL;VALUE=URI:https://www.centrallinn.k12.or.us/high-school/calendar/900163
 7/hs-baseball-clhs
DTSTART:20260331T233000Z
DTEND:20260401T003000Z
END:VEVENT
END:VCALENDAR
