BEGIN:VCALENDAR
VERSION:2.0
PRODID:SchoolNow
CALSCALE:GREGORIAN
BEGIN:VEVENT
UID:e640f2be-3a9f-11f1-b2c1-02078ce7e971
DTSTAMP:20260420T094509Z
SUMMARY:JH Softball @ Western Christian
LOCATION:Western Christian School\, 9045 Wallace Rd NW\, Salem\, OR 97304\,
  USA
URL;VALUE=URI:https://www.centrallinn.k12.or.us/high-school/calendar/900163
 8/jh-softball-western-christian
DTSTART:20260427T230000Z
DTEND:20260428T010000Z
END:VEVENT
END:VCALENDAR
