BEGIN:VCALENDAR
VERSION:2.0
PRODID:SchoolNow
CALSCALE:GREGORIAN
BEGIN:VEVENT
UID:e640f5fc-3a9f-11f1-b50c-02078ce7e971
DTSTAMP:20260420T094508Z
SUMMARY:HS Girls basketball League Playoff Game
URL;VALUE=URI:https://www.centrallinn.k12.or.us/high-school/calendar/900164
 1/hs-girls-basketball-league-playoff-game
DTSTART:20260219T020000Z
DTEND:20260219T033000Z
END:VEVENT
END:VCALENDAR
