BEGIN:VCALENDAR
VERSION:2.0
PRODID:SchoolNow
CALSCALE:GREGORIAN
BEGIN:VEVENT
UID:e640f78c-3a9f-11f1-a890-02078ce7e971
DTSTAMP:20260420T094508Z
SUMMARY:HS Track @ Santiam HS
LOCATION:Santiam High School\, 265 SW Evergreen St\, Mill City\, OR 97360\,
  USA
URL;VALUE=URI:https://www.centrallinn.k12.or.us/high-school/calendar/900164
 2/hs-track-santiam-hs
DTSTART:20260409T230000Z
DTEND:20260410T010000Z
END:VEVENT
END:VCALENDAR
