BEGIN:VCALENDAR
VERSION:2.0
PRODID:SchoolNow
CALSCALE:GREGORIAN
BEGIN:VEVENT
UID:e640f8e0-3a9f-11f1-ade3-02078ce7e971
DTSTAMP:20260425T173009Z
SUMMARY:JH Baseball @ Mt. Angel
LOCATION:Mt Angel Middle School\, 460 E Marquam St\, Mt Angel\, OR 97362\, 
 USA
URL;VALUE=URI:https://www.centrallinn.k12.or.us/high-school/calendar/900164
 3/jh-baseball-mt-angel
DTSTART:20260511T230000Z
DTEND:20260512T010000Z
END:VEVENT
END:VCALENDAR
