BEGIN:VCALENDAR
VERSION:2.0
PRODID:SchoolNow
CALSCALE:GREGORIAN
BEGIN:VEVENT
UID:e640f9d0-3a9f-11f1-80ef-02078ce7e971
DTSTAMP:20260425T173009Z
SUMMARY:JH Softball @ Scio
LOCATION:Scio High School\, 38880 N Main St\, Scio\, OR 97374\, USA
URL;VALUE=URI:https://www.centrallinn.k12.or.us/high-school/calendar/900164
 4/jh-softball-scio
DTSTART:20260504T230000Z
DTEND:20260505T010000Z
END:VEVENT
END:VCALENDAR
