BEGIN:VCALENDAR
VERSION:2.0
PRODID:SchoolNow
CALSCALE:GREGORIAN
BEGIN:VEVENT
UID:e640faca-3a9f-11f1-964d-02078ce7e971
DTSTAMP:20260420T094508Z
SUMMARY:JH Baseball @ CLHS
URL;VALUE=URI:https://www.centrallinn.k12.or.us/high-school/calendar/900164
 5/jh-baseball-clhs
DTSTART:20260415T230000Z
DTEND:20260416T010000Z
END:VEVENT
END:VCALENDAR
