BEGIN:VCALENDAR
VERSION:2.0
PRODID:SchoolNow
CALSCALE:GREGORIAN
BEGIN:VEVENT
UID:e640fbb0-3a9f-11f1-bde7-02078ce7e971
DTSTAMP:20260420T094509Z
SUMMARY:JH Boys Basketball vs Eugene Christian
URL;VALUE=URI:https://www.centrallinn.k12.or.us/high-school/calendar/900164
 6/jh-boys-basketball-vs-eugene-christian
DTSTART:20260219T003000Z
DTEND:20260219T033000Z
END:VEVENT
END:VCALENDAR
