BEGIN:VCALENDAR
VERSION:2.0
PRODID:SchoolNow
CALSCALE:GREGORIAN
BEGIN:VEVENT
UID:e640fd04-3a9f-11f1-948e-02078ce7e971
DTSTAMP:20260420T094509Z
SUMMARY:HS Softball (DH) @ Culver HS
LOCATION:Culver High School\, 710 5th Ave\, Culver\, OR 97734\, USA
URL;VALUE=URI:https://www.centrallinn.k12.or.us/high-school/calendar/900164
 7/hs-softball-dh-culver-hs
DTSTART:20260403T210000Z
DTEND:20260404T010000Z
END:VEVENT
END:VCALENDAR
