BEGIN:VCALENDAR
VERSION:2.0
PRODID:SchoolNow
CALSCALE:GREGORIAN
BEGIN:VEVENT
UID:e640fdf4-3a9f-11f1-a5d2-02078ce7e971
DTSTAMP:20260420T094508Z
SUMMARY:Policy Committee Mtg
LOCATION:CLES Conference Rm/Zoom
URL;VALUE=URI:https://www.centrallinn.k12.or.us/high-school/calendar/900164
 8/policy-committee-mtg
DTSTART:20260406T121500Z
DTEND:20260406T131500Z
END:VEVENT
END:VCALENDAR
