BEGIN:VCALENDAR
VERSION:2.0
PRODID:SchoolNow
CALSCALE:GREGORIAN
BEGIN:VEVENT
UID:e640fed0-3a9f-11f1-9a94-02078ce7e971
DTSTAMP:20260425T173009Z
SUMMARY:JH Baseball @ CLHS
URL;VALUE=URI:https://www.centrallinn.k12.or.us/high-school/calendar/900164
 9/jh-baseball-clhs
DTSTART:20260506T230000Z
DTEND:20260507T010000Z
END:VEVENT
END:VCALENDAR
