BEGIN:VCALENDAR
VERSION:2.0
PRODID:SchoolNow
CALSCALE:GREGORIAN
BEGIN:VEVENT
UID:e640ffb6-3a9f-11f1-a8a1-02078ce7e971
DTSTAMP:20260422T042008Z
SUMMARY:JH Boys Basketball @ Oakridge
URL;VALUE=URI:https://www.centrallinn.k12.or.us/high-school/calendar/900165
 0/jh-boys-basketball-oakridge
DTSTART:20260203T003000Z
DTEND:20260203T033000Z
END:VEVENT
END:VCALENDAR
