BEGIN:VCALENDAR
VERSION:2.0
PRODID:SchoolNow
CALSCALE:GREGORIAN
BEGIN:VEVENT
UID:e64100d8-3a9f-11f1-ab79-02078ce7e971
DTSTAMP:20260425T173009Z
SUMMARY:Spring Break
URL;VALUE=URI:https://www.centrallinn.k12.or.us/high-school/calendar/900165
 1/spring-break
DTSTART;VALUE=DATE:20260323
DTEND;VALUE=DATE:20260328
END:VEVENT
END:VCALENDAR
