BEGIN:VCALENDAR
VERSION:2.0
PRODID:SchoolNow
CALSCALE:GREGORIAN
BEGIN:VEVENT
UID:e6410646-3a9f-11f1-a784-02078ce7e971
DTSTAMP:20260420T094508Z
SUMMARY:JH Baseball @ Western Christian
LOCATION:Western Christian School\, 9045 Wallace Rd NW\, Salem\, OR 97304\,
  USA
URL;VALUE=URI:https://www.centrallinn.k12.or.us/high-school/calendar/900165
 2/jh-baseball-western-christian
DTSTART:20260427T230000Z
DTEND:20260428T010000Z
END:VEVENT
END:VCALENDAR
