BEGIN:VCALENDAR
VERSION:2.0
PRODID:SchoolNow
CALSCALE:GREGORIAN
BEGIN:VEVENT
UID:e64107e0-3a9f-11f1-862b-02078ce7e971
DTSTAMP:20260420T094509Z
SUMMARY:HS Softball @CLHS
URL;VALUE=URI:https://www.centrallinn.k12.or.us/high-school/calendar/900165
 3/hs-softball-clhs
DTSTART:20260428T233000Z
DTEND:20260429T013000Z
END:VEVENT
END:VCALENDAR
