BEGIN:VCALENDAR
VERSION:2.0
PRODID:SchoolNow
CALSCALE:GREGORIAN
BEGIN:VEVENT
UID:e64108c6-3a9f-11f1-a8e0-02078ce7e971
DTSTAMP:20260422T042008Z
SUMMARY:HS Girls Basketball @ Stanfield
URL;VALUE=URI:https://www.centrallinn.k12.or.us/high-school/calendar/900165
 4/hs-girls-basketball-stanfield
DTSTART:20260228T210000Z
DTEND:20260228T223000Z
END:VEVENT
END:VCALENDAR
