BEGIN:VCALENDAR
VERSION:2.0
PRODID:SchoolNow
CALSCALE:GREGORIAN
BEGIN:VEVENT
UID:e64109ca-3a9f-11f1-a227-02078ce7e971
DTSTAMP:20260420T094508Z
SUMMARY:JH Baseball @ Santiam HS
LOCATION:Santiam Junior/Senior High School\, 300 SW Cedar St\, Mill City\, 
 OR 97360\, USA
URL;VALUE=URI:https://www.centrallinn.k12.or.us/high-school/calendar/900165
 5/jh-baseball-santiam-hs
DTSTART:20260413T230000Z
DTEND:20260414T010000Z
END:VEVENT
END:VCALENDAR
