BEGIN:VCALENDAR
VERSION:2.0
PRODID:SchoolNow
CALSCALE:GREGORIAN
BEGIN:VEVENT
UID:e6410c7c-3a9f-11f1-a9bc-02078ce7e971
DTSTAMP:20260420T094508Z
SUMMARY:JH Softball @ Perrydale
LOCATION:Perrydale School\, 7445 Perrydale Rd\, Amity\, OR 97101\, USA
URL;VALUE=URI:https://www.centrallinn.k12.or.us/high-school/calendar/900165
 8/jh-softball-perrydale
DTSTART:20260415T230000Z
DTEND:20260416T010000Z
END:VEVENT
END:VCALENDAR
