BEGIN:VCALENDAR
VERSION:2.0
PRODID:SchoolNow
CALSCALE:GREGORIAN
BEGIN:VEVENT
UID:9931d144-3d03-11f1-a2a2-0afff78173a9
DTSTAMP:20260425T173009Z
SUMMARY:JH Softball @ CLHS
URL;VALUE=URI:https://www.centrallinn.k12.or.us/high-school/calendar/900805
 8/jh-softball-clhs
DTSTART:20260420T230000Z
DTEND:20260421T003000Z
END:VEVENT
END:VCALENDAR
